BEGIN:VCALENDAR
VERSION:2.0
PRODID:-//Living Green Barrie - ECPv6.15.20//NONSGML v1.0//EN
CALSCALE:GREGORIAN
METHOD:PUBLISH
X-ORIGINAL-URL:https://livinggreenbarrie.com
X-WR-CALDESC:Events for Living Green Barrie
REFRESH-INTERVAL;VALUE=DURATION:PT1H
X-Robots-Tag:noindex
X-PUBLISHED-TTL:PT1H
BEGIN:VTIMEZONE
TZID:America/Toronto
BEGIN:DAYLIGHT
TZOFFSETFROM:-0500
TZOFFSETTO:-0400
TZNAME:EDT
DTSTART:20250309T070000
END:DAYLIGHT
BEGIN:STANDARD
TZOFFSETFROM:-0400
TZOFFSETTO:-0500
TZNAME:EST
DTSTART:20251102T060000
END:STANDARD
BEGIN:DAYLIGHT
TZOFFSETFROM:-0500
TZOFFSETTO:-0400
TZNAME:EDT
DTSTART:20260308T070000
END:DAYLIGHT
BEGIN:STANDARD
TZOFFSETFROM:-0400
TZOFFSETTO:-0500
TZNAME:EST
DTSTART:20261101T060000
END:STANDARD
BEGIN:DAYLIGHT
TZOFFSETFROM:-0500
TZOFFSETTO:-0400
TZNAME:EDT
DTSTART:20270314T070000
END:DAYLIGHT
BEGIN:STANDARD
TZOFFSETFROM:-0400
TZOFFSETTO:-0500
TZNAME:EST
DTSTART:20271107T060000
END:STANDARD
END:VTIMEZONE
BEGIN:VEVENT
DTSTART;TZID=America/Toronto:20260307T000000
DTEND;TZID=America/Toronto:20260307T000000
DTSTAMP:20260420T190822
CREATED:20260123T215459Z
LAST-MODIFIED:20260123T221147Z
UID:11967-1772841600-1772841600@livinggreenbarrie.com
SUMMARY:Pollinate Barrie @ Barrie Spring Garden & Home Show
DESCRIPTION:March 7\, 2026 \nPlant Native; Watch Life Return\nDrop in and visit Pollinate Barrie at the Bradford Greenhouses Garden Gallery’s Barrie Spring Garden and Home Show. \n \nJoin Ashley Hammell\, SATURDAY ONLY co-founder of Pollinate Barrie and she walks you through why we need native plants in our garden. Learn how you can easily attract\, support and protect butterflies and bees in your yard. Ashley Hammell is a teacher and self-professed garden punk who co-founded Pollinate Barrie in 2021. Her organization has helped get thousands of native plant sprouts in the ground\, and are aiming to help several thousand more. \nPollinate Barie is a community-led group that wants to help create and sustain native pollinator habitat in our City. Everything they do is volunteer driven by people passionate about plants\, pollinators and planet. \nVisit the Pollnate Barrie website for garden plans and resources!
URL:https://livinggreenbarrie.com/event/pollinate-barrie-barrie-spring-garden-home-show/
LOCATION:ON
CATEGORIES:Community,Educational,Event,Native Plants
END:VEVENT
END:VCALENDAR