BEGIN:VCALENDAR
VERSION:2.0
PRODID:-//Living Green Barrie - ECPv6.15.20//NONSGML v1.0//EN
CALSCALE:GREGORIAN
METHOD:PUBLISH
X-ORIGINAL-URL:https://livinggreenbarrie.com
X-WR-CALDESC:Events for Living Green Barrie
REFRESH-INTERVAL;VALUE=DURATION:PT1H
X-Robots-Tag:noindex
X-PUBLISHED-TTL:PT1H
BEGIN:VTIMEZONE
TZID:America/Toronto
BEGIN:DAYLIGHT
TZOFFSETFROM:-0500
TZOFFSETTO:-0400
TZNAME:EDT
DTSTART:20250309T070000
END:DAYLIGHT
BEGIN:STANDARD
TZOFFSETFROM:-0400
TZOFFSETTO:-0500
TZNAME:EST
DTSTART:20251102T060000
END:STANDARD
BEGIN:DAYLIGHT
TZOFFSETFROM:-0500
TZOFFSETTO:-0400
TZNAME:EDT
DTSTART:20260308T070000
END:DAYLIGHT
BEGIN:STANDARD
TZOFFSETFROM:-0400
TZOFFSETTO:-0500
TZNAME:EST
DTSTART:20261101T060000
END:STANDARD
BEGIN:DAYLIGHT
TZOFFSETFROM:-0500
TZOFFSETTO:-0400
TZNAME:EDT
DTSTART:20270314T070000
END:DAYLIGHT
BEGIN:STANDARD
TZOFFSETFROM:-0400
TZOFFSETTO:-0500
TZNAME:EST
DTSTART:20271107T060000
END:STANDARD
END:VTIMEZONE
BEGIN:VEVENT
DTSTART;TZID=America/Toronto:20260509T080000
DTEND;TZID=America/Toronto:20260509T130000
DTSTAMP:20260420T213650
CREATED:20260123T195642Z
LAST-MODIFIED:20260130T021224Z
UID:11955-1778313600-1778331600@livinggreenbarrie.com
SUMMARY:Annual Native Tree & Shrub Sale
DESCRIPTION:Living Green Barrie Annual Native Tree & Shrub Sale\nGrow a healthier\, greener Barrie—one plant at a time and support Barrie’s only registered environmental charity.\nLiving Green Barrie’s annual Tree & Shrub Sale makes it easy to add helpful greenery to your yard\, balcony\, or community space. Choose from a thoughtfully curated selection of native trees and shrubs suited to our local climate\, with options that support biodiversity\, improve air quality\, and strengthen our urban canopy. \nWe will once again be offering pre-sales with a selection of pick up dates. \nWe are working with community partners to be able to offer low cost trees and shrubs. \nOur native tree and shrub sale supports our tree planting program and we expect to reach our goal of 10\,000 trees for Barrie in 2026! \nMay 9\, 8am-1pm\, \nOur nursery is located behind the parking lot of St. George’s Anglican Church who kindly loan us this space. \nWe will update this event listing and advise when our online store is open for pre-orders\, as we firm up the details.
URL:https://livinggreenbarrie.com/event/annual-native-tree-shrub-sale/
LOCATION:St. George’s Anglican Church\, 9 Granville Street\, Barrie\, Ontario\, L4N 3K1\, Canada
CATEGORIES:Fundraiser,Native Plant Sale,Native Trees & Shrubs
ORGANIZER;CN="Living Green Barrie":MAILTO:info@livinggreen.info
END:VEVENT
END:VCALENDAR