BEGIN:VCALENDAR
VERSION:2.0
PRODID:-//Living Green Barrie - ECPv6.15.20//NONSGML v1.0//EN
CALSCALE:GREGORIAN
METHOD:PUBLISH
X-WR-CALNAME:Living Green Barrie
X-ORIGINAL-URL:https://livinggreenbarrie.com
X-WR-CALDESC:Events for Living Green Barrie
REFRESH-INTERVAL;VALUE=DURATION:PT1H
X-Robots-Tag:noindex
X-PUBLISHED-TTL:PT1H
BEGIN:VTIMEZONE
TZID:America/Toronto
BEGIN:DAYLIGHT
TZOFFSETFROM:-0500
TZOFFSETTO:-0400
TZNAME:EDT
DTSTART:20250309T070000
END:DAYLIGHT
BEGIN:STANDARD
TZOFFSETFROM:-0400
TZOFFSETTO:-0500
TZNAME:EST
DTSTART:20251102T060000
END:STANDARD
BEGIN:DAYLIGHT
TZOFFSETFROM:-0500
TZOFFSETTO:-0400
TZNAME:EDT
DTSTART:20260308T070000
END:DAYLIGHT
BEGIN:STANDARD
TZOFFSETFROM:-0400
TZOFFSETTO:-0500
TZNAME:EST
DTSTART:20261101T060000
END:STANDARD
BEGIN:DAYLIGHT
TZOFFSETFROM:-0500
TZOFFSETTO:-0400
TZNAME:EDT
DTSTART:20270314T070000
END:DAYLIGHT
BEGIN:STANDARD
TZOFFSETFROM:-0400
TZOFFSETTO:-0500
TZNAME:EST
DTSTART:20271107T060000
END:STANDARD
END:VTIMEZONE
BEGIN:VEVENT
DTSTART;TZID=America/Toronto:20260912T100000
DTEND;TZID=America/Toronto:20260912T100000
DTSTAMP:20260420T205557
CREATED:20260123T192749Z
LAST-MODIFIED:20260130T005023Z
UID:11951-1789207200-1789207200@livinggreenbarrie.com
SUMMARY:Maada'ookii Harvest Share
DESCRIPTION:Living Green Barrie in partnership with the Barrie Native Friendship Centre are proud to host the Maada’ookii Harvest Share\, a community event celebrating abundance\, learning\, and sharing. \n \nHarvest Share will bring the community together around food—how we grow it\, how we use it\, and how we can waste less of it. The event will focus on practical ideas for reducing food waste\, eating more plant-forward meals\, and understanding local food security challenges. \nCommunity members will be invited to share surplus homegrown produce (fruits and vegetables)\, between 10 am and 2 pm.   \nThe event will include a series of informal\, drop-in information sessions/presentations starting at 10:30 am throughout the day\, developed in collaboration with community partners. These sessions will provide practical insights and resources for everyday action. \nWe’re still working with our partners to finalize the details and add a few special touches—but we promise it will be worth the wait! \nSave the Date: Saturday Sept 12 \nStart Time: 10:00 am \nCheck back in July/August for full event details \nmiigwech. thank you. \nUpdated Jan 29
URL:https://livinggreenbarrie.com/event/harvest-share-save-the-date/
CATEGORIES:Harvest Share,Reduce Waste
ORGANIZER;CN="Living Green Barrie":MAILTO:info@livinggreen.info
END:VEVENT
END:VCALENDAR